BEGIN:VCALENDAR
VERSION:2.0
PRODID:-//PCQ Metropolitan Zone 1 - ECPv6.15.20//NONSGML v1.0//EN
CALSCALE:GREGORIAN
METHOD:PUBLISH
X-ORIGINAL-URL:https://zone1.org.au
X-WR-CALDESC:Events for PCQ Metropolitan Zone 1
REFRESH-INTERVAL;VALUE=DURATION:PT1H
X-Robots-Tag:noindex
X-PUBLISHED-TTL:PT1H
BEGIN:VTIMEZONE
TZID:Australia/Brisbane
BEGIN:STANDARD
TZOFFSETFROM:+1000
TZOFFSETTO:+1000
TZNAME:AEST
DTSTART:20240101T000000
END:STANDARD
END:VTIMEZONE
BEGIN:VEVENT
DTSTART;TZID=Australia/Brisbane:20250922T193000
DTEND;TZID=Australia/Brisbane:20250922T213000
DTSTAMP:20260420T045135
CREATED:20250221T210114Z
LAST-MODIFIED:20250922T091433Z
UID:10000594-1758569400-1758576600@zone1.org.au
SUMMARY:Zone 1 Club Delegates Meeting
DESCRIPTION:Zone 1 Monthly Delegates Meeting
URL:https://zone1.org.au/event/zone-1-club-delegates-meeting-12/
LOCATION:QLD
END:VEVENT
BEGIN:VEVENT
DTSTART;TZID=Australia/Brisbane:20251019T080000
DTEND;TZID=Australia/Brisbane:20251019T170000
DTSTAMP:20260420T045135
CREATED:20250221T215340Z
LAST-MODIFIED:20250221T215341Z
UID:10000595-1760860800-1760893200@zone1.org.au
SUMMARY:Gumdale Official Dressage
DESCRIPTION:
URL:https://zone1.org.au/event/gumdale-official-dressage/
LOCATION:Gumdale Pony Clun\, 108 Wright St\,\, Carindale\, QLD\, 4152\, Australia
END:VEVENT
BEGIN:VEVENT
DTSTART;TZID=Australia/Brisbane:20251022T193000
DTEND;TZID=Australia/Brisbane:20251022T203000
DTSTAMP:20260420T045135
CREATED:20251022T020702Z
LAST-MODIFIED:20251022T021833Z
UID:10000604-1761161400-1761165000@zone1.org.au
SUMMARY:Zone 1 Exec Meeting
DESCRIPTION:Topic: Zone 1 EOB MeetingTime: Oct 22\, 2025 07:30 PM BrisbaneJoin Zoom Meetinghttps://us06web.zoom.us/j/85627461439?pwd=lR0cltmKc8aFTptW6C5kagXdwfy4qc.1 \n\n\n\nMeeting ID: 856 2746 1439Passcode: 045796 \n\n\n\n\n\n\n\nOne tap mobile+61370182005\,\,85627461439#\,\,\,\,045796# Australia +61731853730\,\,85627461439#\,\,\,\,045796# Australia
URL:https://zone1.org.au/event/zone-1-exec-meeting-2/
LOCATION:QLD
END:VEVENT
BEGIN:VEVENT
DTSTART;TZID=Australia/Brisbane:20251101T080000
DTEND;TZID=Australia/Brisbane:20251101T170000
DTSTAMP:20260420T045135
CREATED:20250221T215951Z
LAST-MODIFIED:20250221T215951Z
UID:10000596-1761984000-1762016400@zone1.org.au
SUMMARY:Wynnum Open Sports Day
DESCRIPTION:
URL:https://zone1.org.au/event/wynnum-open-sports-day/
LOCATION:Wynnum Pony Club\, 50 Bognor St\,\, Tingalpa\, QLD\, 4173\, Australia
END:VEVENT
BEGIN:VEVENT
DTSTART;TZID=Australia/Brisbane:20251103T193000
DTEND;TZID=Australia/Brisbane:20251103T213000
DTSTAMP:20260420T045135
CREATED:20251026T082852Z
LAST-MODIFIED:20251027T225922Z
UID:10000605-1762198200-1762205400@zone1.org.au
SUMMARY:Zone 1 Club Delegates Meeting
DESCRIPTION:Monthly Club Delegates Zoom Meeting \n\n\n\nJohn Martin is inviting you to a scheduled Zoom meeting. \n\n\n\nTopic: Zone 1 Club Delegates MeetingTime: 3rd November\, 2025 07:30 PM BrisbaneJoin Zoom MeetingClick here to join
URL:https://zone1.org.au/event/zone-1-club-delegates-meeting-duplicate/
LOCATION:Zoom Meeting\, Brisbane\, QLD\, Australia
CATEGORIES:Meetings
END:VEVENT
BEGIN:VEVENT
DTSTART;TZID=Australia/Brisbane:20251109T080000
DTEND;TZID=Australia/Brisbane:20251109T170000
DTSTAMP:20260420T045135
CREATED:20251022T020309Z
LAST-MODIFIED:20251022T020534Z
UID:10000603-1762675200-1762707600@zone1.org.au
SUMMARY:Zone 1 Derby Trebble
DESCRIPTION:
URL:https://zone1.org.au/event/7156/
LOCATION:QLD
END:VEVENT
BEGIN:VEVENT
DTSTART;TZID=Australia/Brisbane:20251113T193000
DTEND;TZID=Australia/Brisbane:20251113T204000
DTSTAMP:20260420T045135
CREATED:20251112T072816Z
LAST-MODIFIED:20251112T072819Z
UID:10000607-1763062200-1763066400@zone1.org.au
SUMMARY:Zone 1 EOB Meeting
DESCRIPTION:Meeting of EOB To discuss End of  Year Awardshttps://us06web.zoom.us/j/87649792543?pwd=hlqO3RaseNqGatababRwFW82b5OS1H.1
URL:https://zone1.org.au/event/zone-1-eob-meeting-13/
LOCATION:QLD
CATEGORIES:Meetings
END:VEVENT
BEGIN:VEVENT
DTSTART;TZID=Australia/Brisbane:20260117T170000
DTEND;TZID=Australia/Brisbane:20260117T213000
DTSTAMP:20260420T045135
CREATED:20251030T043654Z
LAST-MODIFIED:20251115T235250Z
UID:10000606-1768669200-1768685400@zone1.org.au
SUMMARY:Zone 1 Awards Night
DESCRIPTION:
URL:https://zone1.org.au/event/zone-1-awards-night/
LOCATION:QLD
CATEGORIES:Meetings
ATTACH;FMTTYPE=image/png:https://zone1.org.au/wp-content/uploads/2025/10/Zone-1-Awards-Night-2025.png
END:VEVENT
END:VCALENDAR