BEGIN:VCALENDAR
VERSION:2.0
PRODID:-//PCQ Metropolitan Zone 1 - ECPv6.15.20//NONSGML v1.0//EN
CALSCALE:GREGORIAN
METHOD:PUBLISH
X-WR-CALNAME:PCQ Metropolitan Zone 1
X-ORIGINAL-URL:https://zone1.org.au
X-WR-CALDESC:Events for PCQ Metropolitan Zone 1
REFRESH-INTERVAL;VALUE=DURATION:PT1H
X-Robots-Tag:noindex
X-PUBLISHED-TTL:PT1H
BEGIN:VTIMEZONE
TZID:Australia/Brisbane
BEGIN:STANDARD
TZOFFSETFROM:+1000
TZOFFSETTO:+1000
TZNAME:AEST
DTSTART:20230101T000000
END:STANDARD
END:VTIMEZONE
BEGIN:VEVENT
DTSTART;TZID=Australia/Brisbane:20250615T080000
DTEND;TZID=Australia/Brisbane:20250615T170000
DTSTAMP:20260420T050812
CREATED:20250219T120807Z
LAST-MODIFIED:20250219T120810Z
UID:10000582-1749974400-1750006800@zone1.org.au
SUMMARY:Gumdale Official Dressage Day
DESCRIPTION:
URL:https://zone1.org.au/event/gumdale-official-dressage-day/
LOCATION:Gumdale Pony Clun\, 108 Wright St\,\, Carindale\, QLD\, 4152\, Australia
END:VEVENT
BEGIN:VEVENT
DTSTART;TZID=Australia/Brisbane:20250608T080000
DTEND;TZID=Australia/Brisbane:20250608T170000
DTSTAMP:20260420T050812
CREATED:20250219T120215Z
LAST-MODIFIED:20250219T120657Z
UID:10000581-1749369600-1749402000@zone1.org.au
SUMMARY:Redlands Official Dressage Day
DESCRIPTION:
URL:https://zone1.org.au/event/redlands-official-dressage-day/
LOCATION:Redlands Pony Club\, 190-262 Cleveland Redland Bay Road\,\, Thornlands\, QLD\, 4164\, Australia
END:VEVENT
BEGIN:VEVENT
DTSTART;TZID=Australia/Brisbane:20250601T080000
DTEND;TZID=Australia/Brisbane:20250601T170000
DTSTAMP:20260420T050812
CREATED:20250219T115642Z
LAST-MODIFIED:20250504T232931Z
UID:10000580-1748764800-1748797200@zone1.org.au
SUMMARY:Zone 1 Dressage & Combined Training Championships
DESCRIPTION:For full details please go to Dressage & Combined Training – PCQ Metropolitan Zone 1
URL:https://zone1.org.au/event/zone-1-combined-training-championships/
LOCATION:Runcorn Pony Club\, 87 Warrigal Road\, Runcorn\, QLD\, 4113\, Australia
END:VEVENT
BEGIN:VEVENT
DTSTART;TZID=Australia/Brisbane:20250531T080000
DTEND;TZID=Australia/Brisbane:20250531T123000
DTSTAMP:20260420T050812
CREATED:20221127T002248Z
LAST-MODIFIED:20250402T071151Z
UID:10000009-1748678400-1748694600@zone1.org.au
SUMMARY:Zone 1 Instructor Clinic – for Refreshing\, Updating and Preparation
DESCRIPTION:Start TimeRegistration: 8:00 am  Start: 8:15 am \n\n\n\nCateringBYO Morning Tea & Lunch\, tea & coffee available \n\n\n\n\n\nClinic Details\n\n\n\nThis clinic will serve as a Refresher Clinic for PCQ Instructors\, and NCAS coaches can obtain Update points towards maintaining their accreditation. It will be a Preparation Clinic for PCQ Coach Levels E\, D\, D* & C\, and NCAS Preliminary\, Junior Coaches\, & Interested Members aged 16yrs and over.The first part of the Clinic will be delivered via Zoom\, and the Zoom meeting Invitation will be sent out by email. You are required to attend on either Wednesday 28th May or Thursday 29th May\, starting at 7.30pm until 9.00pm. \n\n\n\nOn Saturday 31st May\, the second part of the Clinic will have various practical sessions.Demonstration riders will be required. Clubs that have instructors\, coaches or trainee coaches attending the Clinic will be required to provide a minimum of 2 riders. \n\n\n\n\n\n\n\n\n\n\n\n\n\nRegister Now\n\n\n\n\n\nF.A.Q.\n\n\n\n\nPrerequisites\nBe an existing Coach or have completed a PCQ Coach Workbook Order Form or be an interested member aged 16 years and over. \n\n\n\n\nDo I need to bring a horse\nThis is a refresher course.  There is no riding component\, hence you are not required to bring a horse. \n\n\n\n\nHow do I pay\nPayment is via Credit card in the Registration form on this page \n\n\n\n\nIf I am not a member of Zone 1\, can I still attend?\nYes – \n\n\n\nMembers from other Zones are welcome to attend. \n\n\n\n\nWhat time will it Conclude?\nThe day is planned to conclude by 12:30 PM \n\n\n\n\nWill Morning Tea and Lunch be available?\nBYO Morning Tea & Lunch\, tea & coffee available. \n\n\n\n\n\n\n\nTopics Covered\n\n\n\n\nCoaching Principles\n\n\n\nLegal Responsibilities\n\n\n\nRules\, Regulations & Policies\n\n\n\nRisk Management\n\n\n\nCoaching Working Equitation & Horse Archery.\n\n\n\nSporting & Formal Gymkhana events\n\n\n\n\n\n\n\n\n\n\n\n\n				\n					\n					\n\n                \n                        \n                            Coaches Refresher and Trainee Preparation Clinic\n                            Nomination for Refresher & Trainee Clinic \n							"*" indicates required fields \n                        \n                        LinkedInThis field is for validation purposes and should be left unchanged.Name*\n                            \n                            \n                                                    \n                                                    First\n                                                \n                            \n                            \n                                                    \n                                                    Last\n                                                \n                            \n                        Club*BrookfieldCorindaDarra / OxleyGumdaleHendraKarana DownsMoggillMt GravattNorthern SuburbsPark RidgeRedlandsRidgewood HeightsRuncornSouthsideWaterfordWynnumYarawaOTHERPCQ Membership No*Mobile*Email*\n                            \n                        Current PCQ Accreditation Level*PCQ Level CPCQ Level BNCAS PrelimPCQ Instructor CandidateInterested MemberCurrent NCAS Accreditation Level*NCAS PrelimNCAS Level 1NCAS Prelim Junior CoachNCAS Trainee CoachInterested MemberReason for attending*\n			\n					\n					Refresher\n			\n			\n					\n					Updating\n			\n			\n					\n					Preparation\n			\n			\n					\n					Other\n			Trainee Instructor Fee*\n					\n					\n						Price:\n						\n					\n					\n				Total\n							\n						Credit Card*Card Details\n					\n					Cardholder Name\n				\n			\n          \n            \n            \n            \n            \n            \n            \n            \n            \n            \n            \n            \n            \n            \n        \n                        \n                        \n					\n				\n				\n\n\n		\n							\n									\n											\n									\n											\n								\n					\n\n		\n\n	\n				\n			NameClubCurrent PCQ LevelCurrent NCAS LevelReason for attendingEntry ID		\n	\n	\n		\n			NameClubCurrent PCQ LevelCurrent NCAS LevelReason for attendingEntry ID
URL:https://zone1.org.au/event/zone-1-instructor-clinic-for-refreshing-updating-and-preparation/
LOCATION:To Be Advised
CATEGORIES:CIP
ATTACH;FMTTYPE=image/jpeg:https://zone1.org.au/wp-content/uploads/2022/11/Coaching-refresher-scaled.jpg
END:VEVENT
BEGIN:VEVENT
DTSTART;TZID=Australia/Brisbane:20250526T193000
DTEND;TZID=Australia/Brisbane:20250526T213000
DTSTAMP:20260420T050813
CREATED:20250219T114931Z
LAST-MODIFIED:20250501T230153Z
UID:10000578-1748287800-1748295000@zone1.org.au
SUMMARY:Zone 1 Club Delegates Meeting
DESCRIPTION:John Martin is inviting you to a scheduled Zoom meeting. \n\n\n\nTopic: Zone 1 Club Delegates MeetingTime: May 26\, 2025 07:30 PM BrisbaneJoin Zoom Meetinghttps://us06web.zoom.us/j/87088931167?pwd=bgo52Aj3bB0JybRvBUnXf0MoyGw8m7.1 \n\n\n\nMeeting ID: 870 8893 1167Passcode: 211338 \n\n\n\n\n\n\n\nOne tap mobile+61861193900\,\,87088931167#\,\,\,\,211338# Australia +61871501149\,\,87088931167#\,\,\,\,211338# Australia \n\n\n\n\n\n\n\nDial by your location \n\n\n\n\n+61 7 3185 3730 Australia\n\n\n\n\nMeeting ID: 870 8893 1167Passcode: 211338 \n\n\n\nFind your local number: https://us06web.zoom.us/u/kbWyH6Ms2H
URL:https://zone1.org.au/event/zone-1-club-delegates-meeting-9/
END:VEVENT
BEGIN:VEVENT
DTSTART;TZID=Australia/Brisbane:20250521T193000
DTEND;TZID=Australia/Brisbane:20250521T210000
DTSTAMP:20260420T050813
CREATED:20250501T230404Z
LAST-MODIFIED:20250501T230618Z
UID:10000598-1747855800-1747861200@zone1.org.au
SUMMARY:Zone 1 EOB Meeting
DESCRIPTION:Zoom Link for meeting:https://us06web.zoom.us/j/89607714968?pwd=bsXBJrc9SWwMeQCmNY2ZLnZu8YUdu1.1
URL:https://zone1.org.au/event/zone-1-eob-meeting-11/
END:VEVENT
BEGIN:VEVENT
DTSTART;TZID=Australia/Brisbane:20250518T080000
DTEND;TZID=Australia/Brisbane:20250518T170000
DTSTAMP:20260420T050813
CREATED:20250219T114559Z
LAST-MODIFIED:20250219T122054Z
UID:10000577-1747555200-1747587600@zone1.org.au
SUMMARY:Karana Downs Open Showjump Training
DESCRIPTION:
URL:https://zone1.org.au/event/karana-downs-open-showjump-training/
END:VEVENT
BEGIN:VEVENT
DTSTART;TZID=Australia/Brisbane:20250517T080000
DTEND;TZID=Australia/Brisbane:20250517T170000
DTSTAMP:20260420T050813
CREATED:20250219T114213Z
LAST-MODIFIED:20250219T114332Z
UID:10000576-1747468800-1747501200@zone1.org.au
SUMMARY:Park Ridge Formal Gymkhana
DESCRIPTION:
URL:https://zone1.org.au/event/park-ridge-formal-gymkhana/
END:VEVENT
BEGIN:VEVENT
DTSTART;TZID=Australia/Brisbane:20250504T080000
DTEND;TZID=Australia/Brisbane:20250504T170000
DTSTAMP:20260420T050813
CREATED:20250219T113512Z
LAST-MODIFIED:20250219T113514Z
UID:10000575-1746345600-1746378000@zone1.org.au
SUMMARY:Wynnum Combined Training
DESCRIPTION:
URL:https://zone1.org.au/event/wynnum-combined-training/
END:VEVENT
BEGIN:VEVENT
DTSTART;TZID=Australia/Brisbane:20250428T193000
DTEND;TZID=Australia/Brisbane:20250428T213000
DTSTAMP:20260420T050813
CREATED:20250219T112851Z
LAST-MODIFIED:20250428T091112Z
UID:10000574-1745868600-1745875800@zone1.org.au
SUMMARY:Zone 1 Club Delegates Meeting
DESCRIPTION:John Martin is inviting you to a scheduled Zoom meeting. \n\n\n\nTopic: Zone 1 Club Delegates MeetingTime: Apr 28\, 2025 07:30 PM Brisbane Join Zoom Meetinghttps://us06web.zoom.us/j/87088931167?pwd=bgo52Aj3bB0JybRvBUnXf0MoyGw8m7.1 \n\n\n\nMeeting ID: 870 8893 1167Passcode: 211338 \n\n\n\n\n\n\n\nOne tap mobile+61861193900\,\,87088931167#\,\,\,\,211338# Australia +61871501149\,\,87088931167#\,\,\,\,211338# Australia \n\n\n\n\n\n\n\nDial by your location \n\n\n\n\n\n\n\n\n+61 7 3185 3730 Australia\n\n\n\n\n\n\n\n\nMeeting ID: 870 8893 1167Passcode: 211338 \n\n\n\nFind your local number: https://us06web.zoom.us/u/kbWyH6Ms2H
URL:https://zone1.org.au/event/zone-1-club-delegates-meeting-8/
END:VEVENT
BEGIN:VEVENT
DTSTART;TZID=Australia/Brisbane:20250426T080000
DTEND;TZID=Australia/Brisbane:20250426T170000
DTSTAMP:20260420T050813
CREATED:20250219T112704Z
LAST-MODIFIED:20250404T024745Z
UID:10000573-1745654400-1745686800@zone1.org.au
SUMMARY:Zone 1 Showjumping Course Building and Judging Clinic + Refresher
DESCRIPTION:
URL:https://zone1.org.au/event/zone-1-showjumping-clinic-refresher/
END:VEVENT
BEGIN:VEVENT
DTSTART;TZID=Australia/Brisbane:20250423T193000
DTEND;TZID=Australia/Brisbane:20250423T193000
DTSTAMP:20260420T050813
CREATED:20250419T114301Z
LAST-MODIFIED:20250419T114352Z
UID:10000597-1745436600-1745436600@zone1.org.au
SUMMARY:Zone 1 Exec Team meeting
DESCRIPTION:John Martin is inviting you to a scheduled Zoom meeting. \n\n\n\nTopic: Zone 1 Exec Team MeetingTime: Apr 23\, 2025 07:30 PM BrisbaneJoin Zoom Meetinghttps://us06web.zoom.us/j/83827632538?pwd=mnai9HX5N2wwOvkq5PVPUtzFwDGbb8.1 \n\n\n\nMeeting ID: 838 2763 2538Passcode: 566604 \n\n\n\n\n\n\n\nMeeting ID: 838 2763 2538Passcode: 566604 \n\n\n\nFind your local number: https://us06web.zoom.us/u/kbTlPzMFTH
URL:https://zone1.org.au/event/zone-1-exec-team-meeting/
END:VEVENT
BEGIN:VEVENT
DTSTART;TZID=Australia/Brisbane:20250406T080000
DTEND;TZID=Australia/Brisbane:20250409T170000
DTSTAMP:20260420T050813
CREATED:20250219T112158Z
LAST-MODIFIED:20250219T112159Z
UID:10000571-1743926400-1744218000@zone1.org.au
SUMMARY:PCQ State Jumping & Showjumping - Toowoomba SG
DESCRIPTION:
URL:https://zone1.org.au/event/pcq-state-jumping-showjumping-toowoomba-sg/
END:VEVENT
BEGIN:VEVENT
DTSTART;TZID=Australia/Brisbane:20250330T080000
DTEND;TZID=Australia/Brisbane:20250330T170000
DTSTAMP:20260420T050813
CREATED:20250219T105929Z
LAST-MODIFIED:20250219T110024Z
UID:10000570-1743321600-1743354000@zone1.org.au
SUMMARY:Official Showjumping at Gumdale
DESCRIPTION:
URL:https://zone1.org.au/event/official-showjumping-at-gumdale/
END:VEVENT
BEGIN:VEVENT
DTSTART;TZID=Australia/Brisbane:20250324T193000
DTEND;TZID=Australia/Brisbane:20250324T213000
DTSTAMP:20260420T050813
CREATED:20250219T105734Z
LAST-MODIFIED:20250322T111724Z
UID:10000569-1742844600-1742851800@zone1.org.au
SUMMARY:Zone 1 Club Delegates Meeting
DESCRIPTION:This month’s Zoom Link is:https://us06web.zoom.us/j/87088931167?pwd=bgo52Aj3bB0JybRvBUnXf0MoyGw8m7.1
URL:https://zone1.org.au/event/zone-1-club-delegates-meeting-6/
LOCATION:Zoom Meeting\, Brisbane\, QLD\, Australia
END:VEVENT
BEGIN:VEVENT
DTSTART;TZID=Australia/Brisbane:20250316T080000
DTEND;TZID=Australia/Brisbane:20250316T170000
DTSTAMP:20260420T050813
CREATED:20241210T012324Z
LAST-MODIFIED:20250219T105629Z
UID:10000567-1742112000-1742144400@zone1.org.au
SUMMARY:Zone 1 Bobby Bayard Sporting Gymkhana
DESCRIPTION:
URL:https://zone1.org.au/event/zone-1-bobby-bayard-sporting-gymkhana/
LOCATION:Wynnum Pony Club\, 50 Bognor St\,\, Tingalpa\, QLD\, 4173\, Australia
END:VEVENT
BEGIN:VEVENT
DTSTART;TZID=Australia/Brisbane:20250302T080000
DTEND;TZID=Australia/Brisbane:20250302T170000
DTSTAMP:20260420T050813
CREATED:20241210T011856Z
LAST-MODIFIED:20250227T232103Z
UID:10000566-1740902400-1740934800@zone1.org.au
SUMMARY:Zone 1 Showjumping
DESCRIPTION:Click here for full details
URL:https://zone1.org.au/event/zone-1-showjumping/
LOCATION:Redlands Pony Club\, 190-262 Cleveland Redland Bay Road\,\, Thornlands\, QLD\, 4164\, Australia
CATEGORIES:Formal
END:VEVENT
BEGIN:VEVENT
DTSTART;TZID=Australia/Brisbane:20250301T080000
DTEND;TZID=Australia/Brisbane:20250301T170000
DTSTAMP:20260420T050813
CREATED:20241210T011551Z
LAST-MODIFIED:20250227T231934Z
UID:10000565-1740816000-1740848400@zone1.org.au
SUMMARY:Zone 1 Jumping Equitation
DESCRIPTION:Click here for full details
URL:https://zone1.org.au/event/zone-1-jumping-equitation/
LOCATION:Redlands Pony Club\, 190-262 Cleveland Redland Bay Road\,\, Thornlands\, QLD\, 4164\, Australia
CATEGORIES:Formal
END:VEVENT
BEGIN:VEVENT
DTSTART;TZID=Australia/Brisbane:20250224T193000
DTEND;TZID=Australia/Brisbane:20250224T213000
DTSTAMP:20260420T050813
CREATED:20241210T011107Z
LAST-MODIFIED:20250223T073109Z
UID:10000564-1740425400-1740432600@zone1.org.au
SUMMARY:Zone 1 Club Delegates Meeting
DESCRIPTION:John Martin is inviting you to a scheduled Zoom meeting. \n\n\n\nTopic: Zone 1 Club Delegates MeetingJoin Zoom Meetinghttps://us06web.zoom.us/j/87088931167?pwd=bgo52Aj3bB0JybRvBUnXf0MoyGw8m7.1 \n\n\n\nMeeting ID: 870 8893 1167Passcode: 211338 \n\n\n\n\n\n\n\nOne tap mobile+61861193900\,\,87088931167#\,\,\,\,211338# Australia +61871501149\,\,87088931167#\,\,\,\,211338# Australia \n\n\n\n\n\n\n\nDial by your location \n\n\n\n\n+61 7 3185 3730 Australia\n\n\n\n\nMeeting ID: 870 8893 1167Passcode: 211338 \n\n\n\nFind your local number: https://us06web.zoom.us/u/kbWyH6Ms2H
URL:https://zone1.org.au/event/zone-1-club-delegates-meeting-5/
END:VEVENT
BEGIN:VEVENT
DTSTART;TZID=Australia/Brisbane:20250219T193000
DTEND;TZID=Australia/Brisbane:20250219T213000
DTSTAMP:20260420T050813
CREATED:20250217T043130Z
LAST-MODIFIED:20250217T043135Z
UID:10000568-1739993400-1740000600@zone1.org.au
SUMMARY:Zone 1 Exec Meeting
DESCRIPTION:John Martin is inviting you to a scheduled Zoom meeting. \n\n\n\nTopic: Zone 1 Executive (Management Committee) MeetingTime: Feb 19\, 2025 07:30 PM BrisbaneJoin Zoom Meetinghttps://us06web.zoom.us/j/85070283538?pwd=LjYoVfCqRNGDChjaYkgQiYYM4ezZdh.1 \n\n\n\nMeeting ID: 850 7028 3538Passcode: 061462 \n\n\n\n\n\n\n\nOne tap mobile+61731853730\,\,85070283538#\,\,\,\,061462# Australia +61861193900\,\,85070283538#\,\,\,\,061462# Australia \n\n\n\n\n\n\n\nDial by your location \n\n\n\n\n+61 7 3185 3730 Australia\n\n\n\n\nMeeting ID: 850 7028 3538Passcode: 061462 \n\n\n\nFind your local number: https://us06web.zoom.us/u/kdec8Le73W
URL:https://zone1.org.au/event/zone-1-exec-meeting/
ATTACH;FMTTYPE=image/png:https://zone1.org.au/wp-content/uploads/2022/05/zoom_1400x788.png
END:VEVENT
BEGIN:VEVENT
DTSTART;TZID=Australia/Brisbane:20250203T190000
DTEND;TZID=Australia/Brisbane:20250203T193000
DTSTAMP:20260420T050813
CREATED:20241210T010754Z
LAST-MODIFIED:20250202T090627Z
UID:10000563-1738609200-1738611000@zone1.org.au
SUMMARY:Zone 1 AGM
DESCRIPTION:Please Click Zoom meeting
URL:https://zone1.org.au/event/zone-1-agm-3/
LOCATION:Zoom Meeting\, Brisbane\, QLD\, Australia
END:VEVENT
BEGIN:VEVENT
DTSTART;TZID=Australia/Brisbane:20250202T080000
DTEND;TZID=Australia/Brisbane:20250202T170000
DTSTAMP:20260420T050813
CREATED:20241210T005704Z
LAST-MODIFIED:20241210T005953Z
UID:10000559-1738483200-1738515600@zone1.org.au
SUMMARY:Runcorn Official Showjumping
DESCRIPTION:Runcorn Official Showjumping \n\n\n\nMore Details to follow
URL:https://zone1.org.au/event/6806/
LOCATION:Runcorn Pony Club\, 87 Warrigal Road\, Runcorn\, QLD\, 4113\, Australia
CATEGORIES:Formal
END:VEVENT
BEGIN:VEVENT
DTSTART;TZID=Australia/Brisbane:20241124T193000
DTEND;TZID=Australia/Brisbane:20241124T213000
DTSTAMP:20260420T050813
CREATED:20240324T105005Z
LAST-MODIFIED:20240324T105251Z
UID:10000113-1732476600-1732483800@zone1.org.au
SUMMARY:Zone 1 -  Club Delegates Meeting.
DESCRIPTION:Monthly Meeting of Club delegates for Zone  \n\n\n\nJohn Martin is inviting you to a scheduled Zoom meeting. \n\n\n\nTopic: Zone 1 Club Delegates Monthly ZOOM meeting \n\n\n\nJoin Zoom Meeting https://us06web.zoom.us/j/86096939178?pwd=kKoYbXYX9aNb8t1CkLNJeXuOnBIeIz.1 \n\n\n\nDial by your location+61 7 3185 3730 AustraliaMeeting ID: 860 9693 9178Passcode: 734601Find your local number: https://us06web.zoom.us/u/kdnzeoIdZi
URL:https://zone1.org.au/event/zone-1-club-delegates-meeting-3/
LOCATION:Zoom Meeting\, Brisbane\, QLD\, Australia
CATEGORIES:Meetings
ATTACH;FMTTYPE=image/jpeg:https://zone1.org.au/wp-content/uploads/2022/11/zoom-meeting.jpg
END:VEVENT
BEGIN:VEVENT
DTSTART;TZID=Australia/Brisbane:20241120T193000
DTEND;TZID=Australia/Brisbane:20241120T203000
DTSTAMP:20260420T050813
CREATED:20240930T035455Z
LAST-MODIFIED:20241115T220017Z
UID:10000558-1732131000-1732134600@zone1.org.au
SUMMARY:Zone 1 EOB Meeting
DESCRIPTION:John Martin is inviting you to a scheduled Zoom meeting. \n\n\n\nTopic: Zone 1 Exec MeetingTime: Nov 20\, 2024 07:30 PM Brisbane \n\n\n\nJoin Zoom Meetinghttps://us06web.zoom.us/j/84251975135?pwd=k24zfkcW9b0a4E2c1Qn8paaTwuYa8L.1 \n\n\n\nMeeting ID: 842 5197 5135Passcode: 308912 \n\n\n\n\n\n\n\nOne tap mobile+61280156011\,\,84251975135#\,\,\,\,308912# Australia +61370182005\,\,84251975135#\,\,\,\,308912# Australia \n\n\n\n\n\n\n\nDial by your location \n\n\n\n\n+61 7 3185 3730 Australia\n\n\n\n\nMeeting ID: 842 5197 5135Passcode: 308912
URL:https://zone1.org.au/event/zone-1-eob-meeting-8/2024-11-20/
LOCATION:Zoom Meeting\, Brisbane\, QLD\, Australia
CATEGORIES:Meetings
ATTACH;FMTTYPE=image/webp:https://zone1.org.au/wp-content/uploads/2023/11/meeting-graphic.webp
END:VEVENT
BEGIN:VEVENT
DTSTART;TZID=Australia/Brisbane:20241110T080000
DTEND;TZID=Australia/Brisbane:20241110T170000
DTSTAMP:20260420T050813
CREATED:20231122T074720Z
LAST-MODIFIED:20241103T011659Z
UID:10000182-1731225600-1731258000@zone1.org.au
SUMMARY:Zone 1 Derby
DESCRIPTION:Zone Derby Followed by End of Year Awards. \n\n\n\nDue to low nominations\,this event is cancelled
URL:https://zone1.org.au/event/zone-1-derby-2/
LOCATION:Northern Suburbs Pony Club\, 534 Albany Creek Rd\, Bridgeman Downs\, QLd\, 4035\, Australia
CATEGORIES:Formal
END:VEVENT
BEGIN:VEVENT
DTSTART;TZID=Australia/Brisbane:20241028T193000
DTEND;TZID=Australia/Brisbane:20241028T213000
DTSTAMP:20260420T050813
CREATED:20240923T084524Z
LAST-MODIFIED:20241028T065033Z
UID:10000358-1730143800-1730151000@zone1.org.au
SUMMARY:Zone 1 -  Club Delegates Meeting.
DESCRIPTION:Monthly Meeting of Club delegates for Zone  \n\n\n\nJohn Martin is inviting you to a scheduled Zoom meeting. \n\n\n\nTopic: Zone 1 Club Delegates Monthly ZOOM meeting \n\n\n\nJoin Zoom Meeting https://us06web.zoom.us/j/86096939178?pwd=kKoYbXYX9aNb8t1CkLNJeXuOnBIeIz.1 \n\n\n\nDial by your location+61 7 3185 3730 AustraliaMeeting ID: 860 9693 9178Passcode: 734601Find your local number: https://us06web.zoom.us/u/kdnzeoIdZi
URL:https://zone1.org.au/event/zone-1-club-delegates-meeting-7/
LOCATION:Zoom Meeting\, Brisbane\, QLD\, Australia
CATEGORIES:Meetings
ATTACH;FMTTYPE=image/jpeg:https://zone1.org.au/wp-content/uploads/2022/11/zoom-meeting.jpg
END:VEVENT
BEGIN:VEVENT
DTSTART;TZID=Australia/Brisbane:20241007T193000
DTEND;TZID=Australia/Brisbane:20241007T203000
DTSTAMP:20260420T050813
CREATED:20241007T010809Z
LAST-MODIFIED:20241007T012615Z
UID:10000415-1728329400-1728333000@zone1.org.au
SUMMARY:Zone 1 EOB Meeting
DESCRIPTION:This meeting has been pushed back from September \n\n\n\nZoom meeting at: https://us06web.zoom.us/j/83891005404?pwd=Y2vUPyU3jjFcxYVfmzer3aVH7SaaUO.1 \n\n\n\nAgenda:DerbyBobby Bayard and JF McGill CancelationsDates for 2025Proposal for East/West Sporting CompetitionEnd  of Year Trophies etc.Planning for Next year
URL:https://zone1.org.au/event/zone-1-eob-meeting-10/
CATEGORIES:Meetings
ATTACH;FMTTYPE=image/webp:https://zone1.org.au/wp-content/uploads/2023/11/meeting-graphic.webp
END:VEVENT
BEGIN:VEVENT
DTSTART;TZID=Australia/Brisbane:20241002T193000
DTEND;TZID=Australia/Brisbane:20241002T213000
DTSTAMP:20260420T050813
CREATED:20240930T035627Z
LAST-MODIFIED:20240930T035718Z
UID:10000416-1727897400-1727904600@zone1.org.au
SUMMARY:Zone 1 EOB Meeting
DESCRIPTION:John Martin is inviting you to a scheduled Zoom meeting. \n\n\n\nTopic: Zone 1 EOB MeetingTime: Oct 2\, 2024 07:30 PM Brisbane \n\n\n\nJoin Zoom Meetinghttps://us06web.zoom.us/j/83891005404?pwd=Y2vUPyU3jjFcxYVfmzer3aVH7SaaUO.1 \n\n\n\nMeeting ID: 838 9100 5404Passcode: 290803 \n\n\n\n\n\n\n\nOne tap mobile+61370182005\,\,83891005404#\,\,\,\,290803# Australia +61731853730\,\,83891005404#\,\,\,\,290803# Australia \n\n\n\n\n\n\n\nDial by your location \n\n\n\n\n+61 3 7018 2005 Australia\n\n\n\n\n\n\n\n\nMeeting ID: 838 9100 5404Passcode: 290803 \n\n\n\nFind your local number: https://us06web.zoom.us/u/kEiIXaJQt
URL:https://zone1.org.au/event/zone-1-eob-meeting-9/
CATEGORIES:Meetings
ATTACH;FMTTYPE=image/webp:https://zone1.org.au/wp-content/uploads/2023/11/meeting-graphic.webp
END:VEVENT
BEGIN:VEVENT
DTSTART;TZID=Australia/Brisbane:20240901T080000
DTEND;TZID=Australia/Brisbane:20240901T170000
DTSTAMP:20260420T050813
CREATED:20231122T074244Z
LAST-MODIFIED:20231122T074246Z
UID:10000180-1725177600-1725210000@zone1.org.au
SUMMARY:Aitkens Showjumping @ Runcorn
DESCRIPTION:
URL:https://zone1.org.au/event/aitkens-showjumping-runcorn/
END:VEVENT
BEGIN:VEVENT
DTSTART;TZID=Australia/Brisbane:20240823T073000
DTEND;TZID=Australia/Brisbane:20240823T200000
DTSTAMP:20260420T050813
CREATED:20240822T084213Z
LAST-MODIFIED:20240822T085527Z
UID:10000493-1724398200-1724443200@zone1.org.au
SUMMARY:EOB Zoom Meeting
DESCRIPTION:EOB Zoom Meeting\n\n\n\n\n\nAugust Zoom Meeting for EOB \n\n\n\nJohn Martin is inviting you to a scheduled Zoom meeting.Topic: Zone 1 EOB MeetingTime: Aug 23\, 2024 07:30 PM BrisbaneJoin Zoom Meetinghttps://us06web.zoom.us/j/82179555227?pwd=9tlNfEpILxkgVrqXByB58b6CdlvfFY.1Meeting ID: 821 7955 5227Passcode: 554647One tap mobile+61861193900\,\,82179555227#\,\,\,\,554647# Australia +61871501149\,\,82179555227#\,\,\,\,554647# AustraliaDial by your location+61 7 3185 3730 AustraliaMeeting ID: 821 7955 5227Passcode: 554647Find your local number: https://us06web.zoom.us/u/kzDg0f58r \n\n\n\nAgenda:\n\n\n\n\nEnd of Year Trophy Night\n\n\n\nHorse & Rider of the year\n\n\n\nSporting Carnival location\n\n\n\nAitkens\n\n\n\nNext meeting…
URL:https://zone1.org.au/event/eob-zoom-meeting/
CATEGORIES:Meetings
ATTACH;FMTTYPE=image/png:https://zone1.org.au/wp-content/uploads/2022/05/zoom_1400x788.png
END:VEVENT
END:VCALENDAR